BEGIN:VCALENDAR
METHOD:PUBLISH
VERSION:2.0
CALSCALE:GREGORIAN
PRODID:-//NONSGML WPForms//NONSGML Sugar Calendar Feeds v3.11.0//EN
X-WR-CALNAME:Rehearsal
X-WR-CALDESC:The Boise Chordsmen
X-WR-TIMEZONE:UTC
BEGIN:VTIMEZONE
TZID:UTC
BEGIN:STANDARD
TZOFFSETFROM:+0000
TZOFFSETTO:+0000
DTSTART:20251209T070000
TZNAME:UTC
END:STANDARD
END:VTIMEZONE
BEGIN:VTIMEZONE
TZID:UTC
BEGIN:STANDARD
TZOFFSETFROM:+0000
TZOFFSETTO:+0000
DTSTART:20251209T070000
TZNAME:UTC
END:STANDARD
END:VTIMEZONE
BEGIN:VEVENT
SUMMARY:Rehearsal
DESCRIPTION:Weekly rehearsal for the Boise Chordsmen chorus.
URL;VALUE=URI:https://boisechordsmen.com/events/rehearsal-137/
UID:urn:uuid:28730787-f3da-40a9-bd9d-a1123b66c049
STATUS:CONFIRMED
ORGANIZER:
DTSTAMP:20260420T123522Z
DTSTART;TZID=UTC:20260609T190000
DTEND;TZID=UTC:20260609T213000
LOCATION:3755 S. Cloverdale Rd.
END:VEVENT
END:VCALENDAR